BEGIN:VCALENDAR
VERSION:2.0
PRODID:-//AlternatYv - ECPv6.3.2//NONSGML v1.0//EN
CALSCALE:GREGORIAN
METHOD:PUBLISH
X-ORIGINAL-URL:https://www.alternatyv.ch
X-WR-CALDESC:évènements pour AlternatYv
REFRESH-INTERVAL;VALUE=DURATION:PT1H
X-Robots-Tag:noindex
X-PUBLISHED-TTL:PT1H
BEGIN:VTIMEZONE
TZID:Europe/Helsinki
BEGIN:DAYLIGHT
TZOFFSETFROM:+0200
TZOFFSETTO:+0300
TZNAME:EEST
DTSTART:20220327T010000
END:DAYLIGHT
BEGIN:STANDARD
TZOFFSETFROM:+0300
TZOFFSETTO:+0200
TZNAME:EET
DTSTART:20221030T010000
END:STANDARD
END:VTIMEZONE
BEGIN:VEVENT
DTSTART;TZID=Europe/Helsinki:20220917T100000
DTEND;TZID=Europe/Helsinki:20220917T110000
DTSTAMP:20260423T150904
CREATED:20220902T173500Z
LAST-MODIFIED:20220902T202916Z
UID:7981-1663408800-1663412400@www.alternatyv.ch
SUMMARY:Cours de vinyasa yoga
DESCRIPTION:samedi 17 septembre  et dimanche 18 septembre – 10h \nAprès avoir animé les cours de yoga du dimanche matin tout l’été à la Dérivée\, le studio nomad sera présent dans la cour du château à l’occasion d’AlternatYv ! \nVenez avec votre tapis de yoga
URL:https://www.alternatyv.ch/event/cours-de-vinyasa-yoga/
LOCATION:Cour du Château\, Château d'Yverdon\, Yverdon-les-Bains\, Vaud\, 1400\, Suisse
CATEGORIES:Ateliers festival 2022,Festival 2022
ATTACH;FMTTYPE=image/png:https://www.alternatyv.ch/wp-content/uploads/2017/04/yoga.png
END:VEVENT
BEGIN:VEVENT
DTSTART;TZID=Europe/Helsinki:20220917T130000
DTEND;TZID=Europe/Helsinki:20220917T150000
DTSTAMP:20260423T150904
CREATED:20220902T204834Z
LAST-MODIFIED:20220902T204834Z
UID:8094-1663419600-1663426800@www.alternatyv.ch
SUMMARY:Découvrir le confédéralisme démocratique
DESCRIPTION:Avec Errico\, internationaliste \nUne présentation d’environ 45 minutes sur les bases du confédéralisme démocratique selon le mouvement de libération kurde suivi d’une partie plus libre de questions et réponses.
URL:https://www.alternatyv.ch/event/decouvrir-le-confederalisme-democratique/
LOCATION:Foyer\, Château d'Yverdon\, Yverdon-les-Bains\, Vaud\, 1400\, Suisse
CATEGORIES:Ateliers festival 2022,Conférences/discussions festival 2022,Festival 2022
ATTACH;FMTTYPE=image/png:https://www.alternatyv.ch/wp-content/uploads/2017/04/confederalisme-democratique.png
END:VEVENT
BEGIN:VEVENT
DTSTART;TZID=Europe/Helsinki:20220917T133000
DTEND;TZID=Europe/Helsinki:20220917T150000
DTSTAMP:20260423T150904
CREATED:20220902T180140Z
LAST-MODIFIED:20220902T180253Z
UID:8002-1663421400-1663426800@www.alternatyv.ch
SUMMARY:Atelier de dessin : Les Lichens et les mousses
DESCRIPTION:A la découverte du monde immense du minuscule\, observation de lichens et autres mousses en lien avec l’exposition. Si l’on regarde les miniatures en abandonnant l’idée que par leur petites tailles elles sont inutiles et superficielles\, si on les regarde vraiment\, alors c’est un univers infiniment grand qui s’ouvre\, tant pour nos yeux que nos pensées. \n« Dans nos moments de confusion souvent j’éprouve le besoin de contempler un lichen apporter moi une montagne et je vous montrerai ce que je veux dire »\nHans Magnus Enzenberger 1964 \nCours de dessin au stylo encre noir\nDès 15 ans\, en lien avec l’exposition un monde de lichens
URL:https://www.alternatyv.ch/event/atelier-de-dessin-les-lichens-et-les-mousses/
LOCATION:Salle Léon-Michaud\, Château d'Yverdon\, Yverdon-les-Bains\, Vaud\, 1400\, Suisse
CATEGORIES:Ateliers festival 2022,Festival 2022
ATTACH;FMTTYPE=image/png:https://www.alternatyv.ch/wp-content/uploads/2022/09/dessin.png
END:VEVENT
BEGIN:VEVENT
DTSTART;TZID=Europe/Helsinki:20220917T163000
DTEND;TZID=Europe/Helsinki:20220917T173000
DTSTAMP:20260423T150904
CREATED:20220902T182308Z
LAST-MODIFIED:20220902T182805Z
UID:8025-1663432200-1663435800@www.alternatyv.ch
SUMMARY:Atelier de création bijoux du sol
DESCRIPTION:Également proposé le dimanche \nL’atelier « les bijoux du sol » a pour but de te faire créer un bijoux de ton choix avec des matériaux réutilisés\, chinés au marché ou simplement trouvés sur le sol !  \nLes bijoux ont toujours fait partie de nos sociétés\, ils remontent à des millénaires avant nous ! Mais avec l’essor de la hiérarchisation sociale\, les bijoux ont pris une autre tournure. Dans mon atelier\, j’aimerais faire voir les bijoux non plus comme un produit nécessitant l’épuisement des ressources naturelles et des transports ultrapolluants mais plutôt comme un art qui peut se créer à partir de rien.  \nL’atelier est un safe space ou tous.tes.xs sont les bienvenu.e.x.s. C’est un endroit tranquille où nous pourrons parler de nous\, de notre regard sur le présent et l’avenir. Cela dans un respect mutuel. N’hésite pas à apporter tes propres matériaux si l’envie te prends: chutes de tissu\, coquillages\, colliers cassés\, perle et fils de fers sont les bienvenus.  \n60min : création de bijoux et discussion militante  \nAvec Maxence
URL:https://www.alternatyv.ch/event/atelier-de-creation-bijoux-du-sol/
LOCATION:Salle Léon-Michaud\, Château d'Yverdon\, Yverdon-les-Bains\, Vaud\, 1400\, Suisse
CATEGORIES:Ateliers festival 2022,Festival 2022
ATTACH;FMTTYPE=image/png:https://www.alternatyv.ch/wp-content/uploads/2022/09/bijoux.png
END:VEVENT
BEGIN:VEVENT
DTSTART;TZID=Europe/Helsinki:20220918T100000
DTEND;TZID=Europe/Helsinki:20220918T110000
DTSTAMP:20260423T150904
CREATED:20220902T173614Z
LAST-MODIFIED:20220902T202947Z
UID:7985-1663495200-1663498800@www.alternatyv.ch
SUMMARY:Cours de vinyasa yoga
DESCRIPTION:samedi 17 septembre  et dimanche 18 septembre – 10h \nAprès avoir animé les cours de yoga du dimanche matin tout l’été à la Dérivée\, le studio nomad sera présent dans la cour du château à l’occasion d’AlternatYv ! \nVenez avec votre tapis de yoga
URL:https://www.alternatyv.ch/event/cours-de-vinyasa-yoga-2/
LOCATION:Cour du Château\, Château d'Yverdon\, Yverdon-les-Bains\, Vaud\, 1400\, Suisse
CATEGORIES:Ateliers festival 2022,Festival 2022
ATTACH;FMTTYPE=image/png:https://www.alternatyv.ch/wp-content/uploads/2017/04/yoga.png
END:VEVENT
BEGIN:VEVENT
DTSTART;TZID=Europe/Helsinki:20220918T124500
DTEND;TZID=Europe/Helsinki:20220918T140000
DTSTAMP:20260423T150904
CREATED:20220902T212149Z
LAST-MODIFIED:20220910T121912Z
UID:8114-1663505100-1663509600@www.alternatyv.ch
SUMMARY:Un écovillage autour d'Yverdon ?
DESCRIPTION:Un écovillage pour environ 80 personnes est réellement en préparation près d’Yverdon. On a le terrain\, parlons-en et partageons les idées ! \nAvec la Coopérative Bâtir Groupé (un des partenaires du cluster Ecopol)
URL:https://www.alternatyv.ch/event/un-ecovillage-autour-dyverdon/
LOCATION:Salle Léon-Michaud\, Château d'Yverdon\, Yverdon-les-Bains\, Vaud\, 1400\, Suisse
CATEGORIES:Ateliers festival 2022,Conférences/discussions festival 2022,Festival 2022
ATTACH;FMTTYPE=image/png:https://www.alternatyv.ch/wp-content/uploads/2022/09/ecovillage.png
END:VEVENT
BEGIN:VEVENT
DTSTART;TZID=Europe/Helsinki:20220918T143000
DTEND;TZID=Europe/Helsinki:20220918T160000
DTSTAMP:20260423T150904
CREATED:20220902T200911Z
LAST-MODIFIED:20220902T201001Z
UID:8067-1663511400-1663516800@www.alternatyv.ch
SUMMARY:Découvrir la lactofermentation
DESCRIPTION:Également proposé à 16h30. \nRéaliser une conserve de légumes avec Christophe Béguin \nLa lactofermentation (ou fermentation lactique) est l’une des techniques les plus anciennes de conservation des aliments ; une manière « low tech » en comparaison avec celles basées sur le froid. Il y a des milliers d’années\, elle était déjà utilisée en Egypte ou en Chine. La fermentation est en fait une réaction chimique provoquée par certaines levures ou bactéries qui\, en l’absence d’oxygène\, transforment les glucides des aliments. Le milieu devient petit à petit acide\, ce qui empêche les autres micro-organismes de se développer. \nEn pratique\, comment fait-on ? Quel goût cela donne-t-il ? Venez en découvrir plus avec Christophe. \nInscription possible au stand info – max. 15 personnes par séance
URL:https://www.alternatyv.ch/event/decouvrir-la-lactofermentation/
LOCATION:Foyer\, Château d'Yverdon\, Yverdon-les-Bains\, Vaud\, 1400\, Suisse
CATEGORIES:Ateliers festival 2022,Festival 2022
ATTACH;FMTTYPE=image/png:https://www.alternatyv.ch/wp-content/uploads/2022/09/lactofermentation.png
END:VEVENT
BEGIN:VEVENT
DTSTART;TZID=Europe/Helsinki:20220918T150000
DTEND;TZID=Europe/Helsinki:20220918T180000
DTSTAMP:20260423T150904
CREATED:20220902T190936Z
LAST-MODIFIED:20220902T191503Z
UID:8044-1663513200-1663524000@www.alternatyv.ch
SUMMARY:Atelier réparation et entretien de son vélo
DESCRIPTION:Prenez votre vélo et apprenez à le maîtriser ! \nQue faire en cas de panne en cours de route et personne pour dépanner ? Cet atelier pratique devrait vous rendre autonome pour les problèmes les plus récurrents\, avec une partie « entretien préventif » pour éviter des pannes et une partie pour le dépannage en route. \nChaque participant·e amène son vélo.
URL:https://www.alternatyv.ch/event/atelier-reparation-et-entretien-de-son-velo-2/
LOCATION:Place Pestalozzi\, Place Pestalozzi\, Yverdon-les-Bains\, Vaud\, 1400\, Suisse
CATEGORIES:Ateliers festival 2022,Festival 2022
ATTACH;FMTTYPE=image/png:https://www.alternatyv.ch/wp-content/uploads/2022/09/reparation-velo.png
END:VEVENT
BEGIN:VEVENT
DTSTART;TZID=Europe/Helsinki:20220918T150000
DTEND;TZID=Europe/Helsinki:20220918T180000
DTSTAMP:20260423T150904
CREATED:20220902T210837Z
LAST-MODIFIED:20220910T125706Z
UID:8109-1663513200-1663524000@www.alternatyv.ch
SUMMARY:Jeux de société en libre accès
DESCRIPTION:Laissez-vous tenter par différents jeux de société avec les Jeux du tiroir (Facebook | Instagram) sur la place Pestalozzi !
URL:https://www.alternatyv.ch/event/jeux-de-societe-en-libre-acces/
LOCATION:Place Pestalozzi\, Place Pestalozzi\, Yverdon-les-Bains\, Vaud\, 1400\, Suisse
CATEGORIES:Ateliers festival 2022,Festival 2022
ATTACH;FMTTYPE=image/png:https://www.alternatyv.ch/wp-content/uploads/2022/09/jeux.png
END:VEVENT
BEGIN:VEVENT
DTSTART;TZID=Europe/Helsinki:20220918T163000
DTEND;TZID=Europe/Helsinki:20220918T173000
DTSTAMP:20260423T150904
CREATED:20220902T182749Z
LAST-MODIFIED:20220902T182749Z
UID:8028-1663518600-1663522200@www.alternatyv.ch
SUMMARY:Atelier de création bijoux du sol
DESCRIPTION:Également proposé le samedi \nL’atelier « les bijoux du sol » a pour but de te faire créer un bijoux de ton choix avec des matériaux réutilisés\, chinés au marché ou simplement trouvés sur le sol !  \nLes bijoux ont toujours fait partie de nos sociétés\, ils remontent à des millénaires avant nous ! Mais avec l’essor de la hiérarchisation sociale\, les bijoux ont pris une autre tournure. Dans mon atelier\, j’aimerais faire voir les bijoux non plus comme un produit nécessitant l’épuisement des ressources naturelles et des transports ultrapolluants mais plutôt comme un art qui peut se créer à partir de rien.  \nL’atelier est un safe space ou tous.tes.xs sont les bienvenu.e.x.s. C’est un endroit tranquille où nous pourrons parler de nous\, de notre regard sur le présent et l’avenir. Cela dans un respect mutuel. N’hésite pas à apporter tes propres matériaux si l’envie te prends: chutes de tissu\, coquillages\, colliers cassés\, perle et fils de fers sont les bienvenus.  \n60min : création de bijoux et discussion militante  \nAvec Maxence
URL:https://www.alternatyv.ch/event/atelier-de-creation-bijoux-du-sol-2/
LOCATION:Salle Léon-Michaud\, Château d'Yverdon\, Yverdon-les-Bains\, Vaud\, 1400\, Suisse
CATEGORIES:Ateliers festival 2022,Festival 2022
ATTACH;FMTTYPE=image/png:https://www.alternatyv.ch/wp-content/uploads/2022/09/bijoux.png
END:VEVENT
BEGIN:VEVENT
DTSTART;TZID=Europe/Helsinki:20220918T163000
DTEND;TZID=Europe/Helsinki:20220918T180000
DTSTAMP:20260423T150904
CREATED:20220902T201048Z
LAST-MODIFIED:20220902T201048Z
UID:8070-1663518600-1663524000@www.alternatyv.ch
SUMMARY:Découvrir la lactofermentation
DESCRIPTION:Également proposé à 14h30. \nRéaliser une conserve de légumes avec Christophe Béguin \nLa lactofermentation (ou fermentation lactique) est l’une des techniques les plus anciennes de conservation des aliments ; une manière « low tech » en comparaison avec celles basées sur le froid. Il y a des milliers d’années\, elle était déjà utilisée en Egypte ou en Chine. La fermentation est en fait une réaction chimique provoquée par certaines levures ou bactéries qui\, en l’absence d’oxygène\, transforment les glucides des aliments. Le milieu devient petit à petit acide\, ce qui empêche les autres micro-organismes de se développer. \nEn pratique\, comment fait-on ? Quel goût cela donne-t-il ? Venez en découvrir plus avec Christophe. \nInscription possible au stand info – max. 15 personnes par séance
URL:https://www.alternatyv.ch/event/decouvrir-la-lactofermentation-2/
LOCATION:Foyer\, Château d'Yverdon\, Yverdon-les-Bains\, Vaud\, 1400\, Suisse
CATEGORIES:Ateliers festival 2022,Festival 2022
ATTACH;FMTTYPE=image/png:https://www.alternatyv.ch/wp-content/uploads/2022/09/lactofermentation.png
END:VEVENT
END:VCALENDAR